BEGIN:VCALENDAR
VERSION:2.0
PRODID:-//The Rockfall Foundation - ECPv6.15.20//NONSGML v1.0//EN
CALSCALE:GREGORIAN
METHOD:PUBLISH
X-ORIGINAL-URL:https://rockfallfoundation.org
X-WR-CALDESC:Events for The Rockfall Foundation
REFRESH-INTERVAL;VALUE=DURATION:PT1H
X-Robots-Tag:noindex
X-PUBLISHED-TTL:PT1H
BEGIN:VTIMEZONE
TZID:America/New_York
BEGIN:DAYLIGHT
TZOFFSETFROM:-0500
TZOFFSETTO:-0400
TZNAME:EDT
DTSTART:20240310T070000
END:DAYLIGHT
BEGIN:STANDARD
TZOFFSETFROM:-0400
TZOFFSETTO:-0500
TZNAME:EST
DTSTART:20241103T060000
END:STANDARD
BEGIN:DAYLIGHT
TZOFFSETFROM:-0500
TZOFFSETTO:-0400
TZNAME:EDT
DTSTART:20250309T070000
END:DAYLIGHT
BEGIN:STANDARD
TZOFFSETFROM:-0400
TZOFFSETTO:-0500
TZNAME:EST
DTSTART:20251102T060000
END:STANDARD
BEGIN:DAYLIGHT
TZOFFSETFROM:-0500
TZOFFSETTO:-0400
TZNAME:EDT
DTSTART:20260308T070000
END:DAYLIGHT
BEGIN:STANDARD
TZOFFSETFROM:-0400
TZOFFSETTO:-0500
TZNAME:EST
DTSTART:20261101T060000
END:STANDARD
END:VTIMEZONE
BEGIN:VEVENT
DTSTART;TZID=America/New_York:20250116T173000
DTEND;TZID=America/New_York:20250116T193000
DTSTAMP:20260425T121336
CREATED:20241231T151346Z
LAST-MODIFIED:20250102T152205Z
UID:17397-1737048600-1737055800@rockfallfoundation.org
SUMMARY:Meet Your Greens: "Cultivating Justice - Farm Without Harm" With Diana Martinez
DESCRIPTION:[vc_row][vc_column width=”1/2″][vc_column_text css=”.vc_custom_1735831321142{margin-bottom: 0px !important;}”]\n\nJoin us at Conspiracy\, 350 Main St\, Middletown\, CT\, on Thursday\, January 16th\, from 5:30 pm to 7:30 pm. This month\, our featured speaker will be Diana Martinez from the Katal Center for Equity\, Health\, and Justice. During the event\, Diana will share her insights on the systemic changes needed to make farming more accessible and equitable.  \nDiana Martinez is a Program Director with the Katal Center for Equity\, Health\, and Justice. Diana joined the team after working with Katal and Chicks Ahoy Farm to found Cultivating Justice. She also serves as the Chicks Ahoy Farm Board Chair; and is the owner of Dee’s Crafty Bees. Originally from the Bronx\, Diana lives in Middletown\, CT\, where she has dedicated the last two decades to community empowerment and raising two young adults. \nEnjoy an evening of learning and networking at Conspiracy\, known for its unique cocktails inspired by Pre-Prohibition drinks. Attendees can purchase from the cocktail and food menu\, including the special “Rockfall Cocktail\,” inspired by Middletown philanthropist and conservationist Clarence S. Wadsworth. \nWhile registration is not mandatory\, we recommend it to help with efficient service. \n\n[/vc_column_text][/vc_column][vc_column width=”1/2″][vc_single_image image=”17406″ img_size=”full” css=””][/vc_column][/vc_row][vc_row dimension=”flat” corner_style=”pointed” size=”large” letter_spacing=”0″ icon=”” icon_anim=”none” target=”_self” nofollow=”false” align=”center” button_custom_width=”0″ margin_top=”0″ margin_bottom=”15″ margin_right=”15″ outline_skin=”dark” outline_active_color=”” outline_active_text_color=”” outline_hover_bg_color=”” outline_hover_color=”” bg_color=”#01baef” btn_hover_bg=”#01baef” text_color=”light” btn_hover_txt_color=”#ffffff”][vc_column width=”1/2″][mk_button dimension=”flat” corner_style=”rounded” size=”large” url=”https://forms.gle/4MZRicW1PYLzCNR58″ target=”_blank” bg_color=”#01baef” btn_hover_bg=”#01baef” btn_hover_txt_color=”#ffffff”]REGISTER HERE[/mk_button][/vc_column][vc_column width=”1/2″][/vc_column][/vc_row][vc_row][vc_column][vc_column_text css=”.vc_custom_1735655743177{margin-bottom: 0px !important;}”]For those of you not familiar with Meet Your Greens: Middletown Green Drinks\, this monthly event provides networking opportunities for anyone who is interested in making connections and exchanging news about emerging environmental issues to help keep Lower Connecticut River Valley communities green and growing. An official location of Green Drinks International\, this informal monthly gathering of people drawn from the community\, nonprofit groups and the business world offers time to brainstorm ideas and plant seeds for collaboration. All are welcome and there is no admission fee\, unless otherwise noted.[/vc_column_text][/vc_column][/vc_row]
URL:https://rockfallfoundation.org/event/cultivating-justice/
LOCATION:Conspiracy\, 350 Main St\, Middletown\, CT\, 06457
END:VEVENT
END:VCALENDAR