BEGIN:VCALENDAR
VERSION:2.0
PRODID:-//The Rockfall Foundation - ECPv6.15.20//NONSGML v1.0//EN
CALSCALE:GREGORIAN
METHOD:PUBLISH
X-ORIGINAL-URL:https://rockfallfoundation.org
X-WR-CALDESC:Events for The Rockfall Foundation
REFRESH-INTERVAL;VALUE=DURATION:PT1H
X-Robots-Tag:noindex
X-PUBLISHED-TTL:PT1H
BEGIN:VTIMEZONE
TZID:America/New_York
BEGIN:DAYLIGHT
TZOFFSETFROM:-0500
TZOFFSETTO:-0400
TZNAME:EDT
DTSTART:20230312T070000
END:DAYLIGHT
BEGIN:STANDARD
TZOFFSETFROM:-0400
TZOFFSETTO:-0500
TZNAME:EST
DTSTART:20231105T060000
END:STANDARD
BEGIN:DAYLIGHT
TZOFFSETFROM:-0500
TZOFFSETTO:-0400
TZNAME:EDT
DTSTART:20240310T070000
END:DAYLIGHT
BEGIN:STANDARD
TZOFFSETFROM:-0400
TZOFFSETTO:-0500
TZNAME:EST
DTSTART:20241103T060000
END:STANDARD
BEGIN:DAYLIGHT
TZOFFSETFROM:-0500
TZOFFSETTO:-0400
TZNAME:EDT
DTSTART:20250309T070000
END:DAYLIGHT
BEGIN:STANDARD
TZOFFSETFROM:-0400
TZOFFSETTO:-0500
TZNAME:EST
DTSTART:20251102T060000
END:STANDARD
END:VTIMEZONE
BEGIN:VEVENT
DTSTART;TZID=America/New_York:20240908T100000
DTEND;TZID=America/New_York:20240908T123000
DTSTAMP:20260425T070209
CREATED:20240729T155341Z
LAST-MODIFIED:20240805T144136Z
UID:16982-1725789600-1725798600@rockfallfoundation.org
SUMMARY:Learn How To Identify and Manage Invasive Plants In Your Back Yard
DESCRIPTION:[vc_row][vc_column css=”.vc_custom_1680794568943{margin-top: 0px !important;}”][vc_column_text css=”.vc_custom_1722868890785{margin-bottom: 0px !important;}”]\nThis event is co-sponsored\nby Everyone Outside | Flora & Friends | Coginchaug Outdoor Enrichment Center\n[/vc_column_text][/vc_column][/vc_row][vc_row][vc_column width=”1/2″][vc_column_text css=”.vc_custom_1722267378365{margin-bottom: 0px !important;}”]Join us at the Rockfall Forest in Middlefield\, CT\, for an Educational Invasive Plant Workshop and Cleanup Party.  \nYou will learn how to identify and remove some of the more aggressive invasives in our state: garlic mustard\, barberry\, Asian bittersweet\, honeysuckle\, privet\, autumn olive\, Japanese knotweed\, multiflora rose\, and winged euonymus (burning bush)\, to name a few. \nWhat to Bring: Bring clippers and gloves if you have them; a limited supply will be available. Tick repellant is suggested. \nBonus: You will have a chance to sample some invasive plant recipes. \nWhat are Invasive Plants?  \nUCONN’s Invasive Plants Council best describes invasive plants as “non-native plants that are disruptive in a way that causes environmental or economic harm or harm to human health. In minimally managed areas\, invasive plants crowd out native plants. The presence of invasive plants alters how plants\, animals\, soil\, and water interact within native ecosystems\, often causing harm to other species in addition to the plants that have been crowded out.” \nLocation: Meet at 9:45 in the Middlefield Memorial School parking lot\, 124 Hubbard St\, Middlefield\, CT. Heavy rain cancels.[/vc_column_text][/vc_column][vc_column width=”1/2″][vc_single_image image=”16984″ img_size=”medium” css=””][vc_single_image image=”16985″ img_size=”medium” css=””][/vc_column][/vc_row][vc_row dimension=”flat” corner_style=”pointed” size=”large” letter_spacing=”0″ icon=”” icon_anim=”none” target=”_self” nofollow=”false” align=”center” button_custom_width=”0″ margin_top=”0″ margin_bottom=”15″ margin_right=”15″ outline_skin=”dark” outline_active_color=”” outline_active_text_color=”” outline_hover_bg_color=”” outline_hover_color=”” bg_color=”#01baef” btn_hover_bg=”#01baef” text_color=”light” btn_hover_txt_color=”#ffffff”][vc_column][mk_button dimension=”flat” corner_style=”rounded” size=”large” url=”https://forms.gle/5DzQ2k5fEuEjFhmn8″ target=”_blank” bg_color=”#01baef” btn_hover_bg=”#01baef” btn_hover_txt_color=”#ffffff”]Sign-up Form[/mk_button][/vc_column][/vc_row]
URL:https://rockfallfoundation.org/event/learn-how-to-identify-and-manage-invasive-plants-in-your-back-yard-2/
LOCATION:Middlefield Memorial School Parking Lot\, 124 Hubbard St.\, Middlefield\, CT\, United States
ATTACH;FMTTYPE=image/png:https://rockfallfoundation.org/wp-content/uploads/2024/07/copy-of-invasive-workpoarty-900-225-px.png
END:VEVENT
BEGIN:VEVENT
DTSTART;TZID=America/New_York:20240919T173000
DTEND;TZID=America/New_York:20240919T193000
DTSTAMP:20260425T070209
CREATED:20240904T142802Z
LAST-MODIFIED:20240904T142802Z
UID:17077-1726767000-1726774200@rockfallfoundation.org
SUMMARY:Meet Your Greens with Joe Attwater of the Roger Tory Peterson Estuary Center
DESCRIPTION:[vc_row][vc_column width=”1/2″][vc_column_text css=”.vc_custom_1725460015153{margin-bottom: 0px !important;}”]\n\nJoe Attwater is the Conservation & Education Coordinator for the Connecticut Audubon Society’s RTP Estuary Center in Old Lyme. He holds a B.S. in Wildlife and Conservation Biology from the University of Rhode Island\, where he contributed to graduate research on migrating songbirds and seabirds. At the RTP Estuary Center\, Joe leads bird-focused community programs and webinars and assists with K-12 and family education programs\, sharing his passion for wildlife and conservation. \nShorebirds\nShorebirds are some of the champions of the bird world when it comes to migration. In this presentation\, Joe will go over this incredible group of birds\, which ones you can expect to see in Connecticut\, as well as the Connecticut Audubon Society’s conservation efforts in protecting this important species. \nRTP Estuary Center\nThe Roger Tory Peterson Estuary Center was established in 2014 and is a center of the Connecticut Audubon Society. We dedicate ourselves to future generations through experiential education and conservation of our land\, water and the species that inhabit them. We are named for the internationally and locally renowned artist\, scientific illustrator\, environmental educator and conservation advocate Roger Tory Peterson. \nThe Connecticut Audubon Society was founded in 1898 and currently manages 22 sanctuaries totaling over 3400 acres throughout Connecticut. The Connecticut Audubon Society protects Connecticut’s birds\, other wildlife\, and their habitats through conservation\, education and advocacy. \nLocated on 5.25 acres on the banks of the Lieutenant River\, the RTP Estuary Center has open lawns\, wooded edges and inland wetland and a nearby salt marsh\, the combination of which attracts a wide diversity of bird species. \nLight snacks and refreshments will be provided at the event. \nThe limit for this event is 30 people. Please register for the event by clicking the registration button below. \nDate: September 19\, 5:30 – 7:30 PM \nLocation: Roger Tory Peterson Estuary Center\, 100 Lyme Street\, Old Lyme\, CT \n\n[/vc_column_text][/vc_column][vc_column width=”1/2″][vc_single_image image=”17081″ img_size=”full” css=””][/vc_column][/vc_row][vc_row dimension=”flat” corner_style=”pointed” size=”large” letter_spacing=”0″ icon=”” icon_anim=”none” target=”_self” nofollow=”false” align=”center” button_custom_width=”0″ margin_top=”0″ margin_bottom=”15″ margin_right=”15″ outline_skin=”dark” outline_active_color=”” outline_active_text_color=”” outline_hover_bg_color=”” outline_hover_color=”” bg_color=”#01baef” btn_hover_bg=”#01baef” text_color=”light” btn_hover_txt_color=”#ffffff”][vc_column width=”1/2″][mk_button dimension=”flat” corner_style=”rounded” size=”large” url=”https://forms.gle/u97WyyD1iC74uLDT6″ target=”_blank” bg_color=”#01baef” btn_hover_bg=”#01baef” btn_hover_txt_color=”#ffffff”]REGISTER HERE[/mk_button][/vc_column][vc_column width=”1/2″][/vc_column][/vc_row][vc_row][vc_column][vc_column_text css=”.vc_custom_1703180544764{margin-bottom: 0px !important;}”]\nFor those of you not familiar with Meet Your Greens: Middletown Green Drinks\, this monthly event provides networking opportunities for anyone who is interested in making connections and exchanging news about emerging environmental issues to help keep Lower Connecticut River Valley communities green and growing. An official location of Green Drinks International\, this informal monthly gathering of people drawn from the community\, nonprofit groups and the business world offers time to brainstorm ideas and plant seeds for collaboration. All are welcome and there is no admission fee\, unless otherwise noted.\n[/vc_column_text][/vc_column][/vc_row]
URL:https://rockfallfoundation.org/event/myg-rtp/
LOCATION:Roger Tory Peterson Estuary Center\, 100 Lyme Street\, Old Lyme\, CT\, 06371
END:VEVENT
END:VCALENDAR