BEGIN:VCALENDAR
VERSION:2.0
PRODID:-//The Rockfall Foundation - ECPv6.15.20//NONSGML v1.0//EN
CALSCALE:GREGORIAN
METHOD:PUBLISH
X-ORIGINAL-URL:https://rockfallfoundation.org
X-WR-CALDESC:Events for The Rockfall Foundation
REFRESH-INTERVAL;VALUE=DURATION:PT1H
X-Robots-Tag:noindex
X-PUBLISHED-TTL:PT1H
BEGIN:VTIMEZONE
TZID:America/New_York
BEGIN:DAYLIGHT
TZOFFSETFROM:-0500
TZOFFSETTO:-0400
TZNAME:EDT
DTSTART:20230312T070000
END:DAYLIGHT
BEGIN:STANDARD
TZOFFSETFROM:-0400
TZOFFSETTO:-0500
TZNAME:EST
DTSTART:20231105T060000
END:STANDARD
BEGIN:DAYLIGHT
TZOFFSETFROM:-0500
TZOFFSETTO:-0400
TZNAME:EDT
DTSTART:20240310T070000
END:DAYLIGHT
BEGIN:STANDARD
TZOFFSETFROM:-0400
TZOFFSETTO:-0500
TZNAME:EST
DTSTART:20241103T060000
END:STANDARD
BEGIN:DAYLIGHT
TZOFFSETFROM:-0500
TZOFFSETTO:-0400
TZNAME:EDT
DTSTART:20250309T070000
END:DAYLIGHT
BEGIN:STANDARD
TZOFFSETFROM:-0400
TZOFFSETTO:-0500
TZNAME:EST
DTSTART:20251102T060000
END:STANDARD
END:VTIMEZONE
BEGIN:VEVENT
DTSTART;TZID=America/New_York:20240706T093000
DTEND;TZID=America/New_York:20240706T103000
DTSTAMP:20260425T101214
CREATED:20240515T160652Z
LAST-MODIFIED:20240705T212911Z
UID:16769-1720258200-1720261800@rockfallfoundation.org
SUMMARY:Yoga at the Mansion July 6\, has been cancelled
DESCRIPTION:[vc_row][vc_column][vc_column_text css=”.vc_custom_1720214936925{margin-bottom: 0px !important;}”]\n\nDue to expected rain and thunderstorms\, Yoga at the Mansion scheduled for Saturday\, July 6\, has been cancelled. Thank you for your understanding. Registrations for July 6 can be applied to any remaining sessions in July.\nStarr Mill Yoga will offer yoga classes on Saturdays in July at Wadsworth Mansion’s rose garden. Enjoy the healthy benefits of breath\, movement\, and being outdoors. Meet Starr Mill Yoga’s instructors and experience a wide range of practices. All levels are welcome. Proceeds benefit The Rockfall Foundation’s environmental grants and education programs. \nClasses begin at 9:30 AM and will be held Saturdays (July 6\, 13\, 20\, and 27). Cash or check is preferred. $20 suggested minimum donation. Pre-registration is appreciated\, but not required at www.starrmillyoga.com. \n$20 donations. Profits benefit The Rockfall Foundation. \nAfter class\, enjoy the mansion’s expansive grounds\, walking trails\, notable trees and exotic plants. Wadsworth Mansion is located at 421 Wadsworth Street\, Middletown. Rain cancels. \nClick below to register: \n\n[/vc_column_text][/vc_column][/vc_row][vc_row][vc_column][vc_btn title=”Register Now” color=”success” link=”url:https%3A%2F%2Fwww.wellnessliving.com%2Frs%2Fevent%2Fstarr_mill_yoga%3Fk_class%3D638906|target:_blank”][/vc_column][/vc_row][vc_row][vc_column][vc_column_text css=”.vc_custom_1718643610361{margin-bottom: 0px !important;}”]For more information and assistance with pre-registration (encouraged but not required)\, contact info@starrmillyoga.com or call 860-740-4939.  \nSchedule:\nJuly 6: Katie\nJuly 13: Juliana\nJuly 20: Lana\nJuly 27: Nicole \nBring your own yoga mat\, sunscreen\, and water. The garden has both shaded and sunny areas. \nRain cancels. Contact 860-740-4939 for more information.[/vc_column_text][/vc_column][/vc_row]
URL:https://rockfallfoundation.org/event/yoga-at-the-mansion-with-katie/
LOCATION:Wadsworth Mansion Rose Garden\, 421 Wadsworth Street\, Middletown\, CT\, 06457
ATTACH;FMTTYPE=image/png:https://rockfallfoundation.org/wp-content/uploads/2021/04/invasive-plant-removal-in-the-rockfall-forest-5.png
END:VEVENT
BEGIN:VEVENT
DTSTART;TZID=America/New_York:20240713T093000
DTEND;TZID=America/New_York:20240713T103000
DTSTAMP:20260425T101214
CREATED:20240515T161017Z
LAST-MODIFIED:20240617T170257Z
UID:16771-1720863000-1720866600@rockfallfoundation.org
SUMMARY:Yoga at the Mansion: with Juliana
DESCRIPTION:[vc_row][vc_column][vc_column_text css=”.vc_custom_1718643689580{margin-bottom: 0px !important;}”]\n\nStarr Mill Yoga will offer yoga classes on Saturdays in July at Wadsworth Mansion’s rose garden. Enjoy the healthy benefits of breath\, movement\, and being outdoors. Meet Starr Mill Yoga’s instructors and experience a wide range of practices. All levels are welcome. Proceeds benefit The Rockfall Foundation’s environmental grants and education programs. \nClasses begin at 9:30 AM and will be held Saturdays (July 6\, 13\, 20\, and 27). Cash or check is preferred. $20 suggested minimum donation. Pre-registration is appreciated\, but not required at www.starrmillyoga.com. \n$20 donations. Profits benefit The Rockfall Foundation. \nAfter class\, enjoy the mansion’s expansive grounds\, walking trails\, notable trees and exotic plants. Wadsworth Mansion is located at 421 Wadsworth Street\, Middletown. Rain cancels. \nClick below to register: \n\n[/vc_column_text][/vc_column][/vc_row][vc_row][vc_column][vc_btn title=”Register Now” color=”success” link=”url:https%3A%2F%2Fwww.wellnessliving.com%2Frs%2Fevent%2Fstarr_mill_yoga%3Fk_class%3D638906|target:_blank”][/vc_column][/vc_row][vc_row][vc_column][vc_column_text css=”.vc_custom_1718643713323{margin-bottom: 0px !important;}”]For more information and assistance with pre-registration (encouraged but not required)\, contact info@starrmillyoga.com or call 860-740-4939.  \nSchedule:\nJuly 6: Katie\nJuly 13: Juliana\nJuly 20: Lana\nJuly 27: Nicole \nBring your own yoga mat\, sunscreen\, and water. The garden has both shaded and sunny areas. \nRain cancels. Contact 860-740-4939 for more information.[/vc_column_text][/vc_column][/vc_row]
URL:https://rockfallfoundation.org/event/yoga-at-the-mansion-with-juliana/
LOCATION:Wadsworth Mansion Rose Garden\, 421 Wadsworth Street\, Middletown\, CT\, 06457
ATTACH;FMTTYPE=image/png:https://rockfallfoundation.org/wp-content/uploads/2021/04/invasive-plant-removal-in-the-rockfall-forest-5.png
END:VEVENT
BEGIN:VEVENT
DTSTART;TZID=America/New_York:20240718T173000
DTEND;TZID=America/New_York:20240718T193000
DTSTAMP:20260425T101214
CREATED:20240702T140850Z
LAST-MODIFIED:20240702T140850Z
UID:16898-1721323800-1721331000@rockfallfoundation.org
SUMMARY:Meet Your Greens With Bill (Mr. Fix This) Agli
DESCRIPTION:[vc_row][vc_column width=”1/2″][vc_column_text css=”.vc_custom_1719927803369{margin-bottom: 0px !important;}”]\n\nJoin us at Conspiracy\, 350 Main St\, Middletown\, CT\, on Thursday\, July 18th\, from 5:30 pm to 7:30 pm. This Meet Your Greens event features Bill Agli\, a locally renowned Home Sustainability Specialist and the founder of Mister\, Fix This. Bill has an engineering background and is an expert in home system and appliance health check-ups and repairs\, helping homeowners reduce their environmental impact and enhance sustainability. His practical approach resolves immediate issues and educates homeowners on efficient home maintenance\, significantly reducing landfill waste and saving them money. \nDuring the event\, Bill will share insights on improving home efficiency and sustainability\, highlighting the community’s role in these efforts. \nEnjoy an evening of learning and networking at Conspiracy\, known for its unique cocktails inspired by Pre-Prohibition drinks. Attendees can purchase from the cocktail and food menu\, including the special “Rockfall Cocktail\,” inspired by Middletown philanthropist and conservationist Clarence S. Wadsworth. \nWhile registration is not mandatory\, we recommend it to help with efficient service.  \n\n[/vc_column_text][/vc_column][vc_column width=”1/2″][vc_single_image image=”16899″ img_size=”full” css=””][/vc_column][/vc_row][vc_row dimension=”flat” corner_style=”pointed” size=”large” letter_spacing=”0″ icon=”” icon_anim=”none” target=”_self” nofollow=”false” align=”center” button_custom_width=”0″ margin_top=”0″ margin_bottom=”15″ margin_right=”15″ outline_skin=”dark” outline_active_color=”” outline_active_text_color=”” outline_hover_bg_color=”” outline_hover_color=”” bg_color=”#01baef” btn_hover_bg=”#01baef” text_color=”light” btn_hover_txt_color=”#ffffff”][vc_column width=”1/2″][mk_button dimension=”flat” corner_style=”rounded” size=”large” url=”https://forms.gle/fMa2LSH6MX6zE9scA” target=”_blank” bg_color=”#01baef” btn_hover_bg=”#01baef” btn_hover_txt_color=”#ffffff”]REGISTER HERE[/mk_button][/vc_column][vc_column width=”1/2″][/vc_column][/vc_row][vc_row][vc_column][vc_column_text css=”.vc_custom_1703180544764{margin-bottom: 0px !important;}”]\nFor those of you not familiar with Meet Your Greens: Middletown Green Drinks\, this monthly event provides networking opportunities for anyone who is interested in making connections and exchanging news about emerging environmental issues to help keep Lower Connecticut River Valley communities green and growing. An official location of Green Drinks International\, this informal monthly gathering of people drawn from the community\, nonprofit groups and the business world offers time to brainstorm ideas and plant seeds for collaboration. All are welcome and there is no admission fee\, unless otherwise noted.\n[/vc_column_text][/vc_column][/vc_row]
URL:https://rockfallfoundation.org/event/meet-your-greens-with-bill-mr-fix-this-agli/
LOCATION:Conspiracy\, 350 Main St\, Middletown\, CT\, 06457
END:VEVENT
BEGIN:VEVENT
DTSTART;TZID=America/New_York:20240720T093000
DTEND;TZID=America/New_York:20240720T103000
DTSTAMP:20260425T101214
CREATED:20240617T150348Z
LAST-MODIFIED:20240617T170557Z
UID:16884-1721467800-1721471400@rockfallfoundation.org
SUMMARY:Yoga at the Mansion: with Lana
DESCRIPTION:[vc_row][vc_column][vc_column_text css=”.vc_custom_1718643942139{margin-bottom: 0px !important;}”]\n\nStarr Mill Yoga will offer yoga classes on Saturdays in July at Wadsworth Mansion’s rose garden. Enjoy the healthy benefits of breath\, movement\, and being outdoors. Meet Starr Mill Yoga’s instructors and experience a wide range of practices. All levels are welcome. Proceeds benefit The Rockfall Foundation’s environmental grants and education programs. \nClasses begin at 9:30 AM and will be held Saturdays (July 6\, 13\, 20\, and 27). Cash or check is preferred. $20 suggested minimum donation. Pre-registration is appreciated\, but not required at www.starrmillyoga.com. \n$20 donations. Profits benefit The Rockfall Foundation. \nAfter class\, enjoy the mansion’s expansive grounds\, walking trails\, notable trees and exotic plants. Wadsworth Mansion is located at 421 Wadsworth Street\, Middletown. Rain cancels. \nClick below to register: \n\n[/vc_column_text][/vc_column][/vc_row][vc_row][vc_column][vc_btn title=”Register Now” color=”success” link=”url:https%3A%2F%2Fwww.wellnessliving.com%2Frs%2Fevent%2Fstarr_mill_yoga%3Fk_class%3D638906|target:_blank”][/vc_column][/vc_row][vc_row][vc_column][vc_column_text css=”.vc_custom_1718636562098{margin-bottom: 0px !important;}”]For more information and assistance with pre-registration (encouraged but not required)\, contact info@starrmillyoga.com or call 860-740-4939.  \nSchedule:\nJuly 6: Katie\nJuly 13: Juliana\nJuly 20: Lana\nJuly 27: Nicole \nBring your own yoga mat\, sunscreen\, and water. The garden has both shaded and sunny areas. \nRain cancels. Contact 860-740-4939 for more information.[/vc_column_text][/vc_column][/vc_row]
URL:https://rockfallfoundation.org/event/yoga-at-the-mansion-with-lana/
LOCATION:Wadsworth Mansion Rose Garden\, 421 Wadsworth Street\, Middletown\, CT\, 06457
ATTACH;FMTTYPE=image/png:https://rockfallfoundation.org/wp-content/uploads/2021/04/invasive-plant-removal-in-the-rockfall-forest-5.png
END:VEVENT
BEGIN:VEVENT
DTSTART;TZID=America/New_York:20240727T093000
DTEND;TZID=America/New_York:20240727T103000
DTSTAMP:20260425T101214
CREATED:20240515T161252Z
LAST-MODIFIED:20240617T170733Z
UID:16773-1722072600-1722076200@rockfallfoundation.org
SUMMARY:Yoga at the Mansion: with Nicole
DESCRIPTION:[vc_row][vc_column][vc_column_text css=”.vc_custom_1718644021676{margin-bottom: 0px !important;}”]\n\nStarr Mill Yoga will offer yoga classes on Saturdays in July at Wadsworth Mansion’s rose garden. Enjoy the healthy benefits of breath\, movement\, and being outdoors. Meet Starr Mill Yoga’s instructors and experience a wide range of practices. All levels are welcome. Proceeds benefit The Rockfall Foundation’s environmental grants and education programs. \nClasses begin at 9:30 AM and will be held Saturdays (July 6\, 13\, 20\, and 27). Cash or check is preferred. $20 suggested minimum donation. Pre-registration is appreciated\, but not required at www.starrmillyoga.com. \n$20 donations. Profits benefit The Rockfall Foundation. \nAfter class\, enjoy the mansion’s expansive grounds\, walking trails\, notable trees and exotic plants. Wadsworth Mansion is located at 421 Wadsworth Street\, Middletown. Rain cancels. \nClick below to register: \n\n[/vc_column_text][/vc_column][/vc_row][vc_row][vc_column][vc_btn title=”Register Now” color=”success” link=”url:https%3A%2F%2Fwww.wellnessliving.com%2Frs%2Fevent%2Fstarr_mill_yoga%3Fk_class%3D638906|target:_blank”][/vc_column][/vc_row][vc_row][vc_column][vc_column_text css=”.vc_custom_1718644042108{margin-bottom: 0px !important;}”]For more information and assistance with pre-registration (encouraged but not required)\, contact info@starrmillyoga.com or call 860-740-4939.  \nSchedule:\nJuly 6: Katie\nJuly 13: Juliana\nJuly 20: Lana\nJuly 27: Nicole \nBring your own yoga mat\, sunscreen\, and water. The garden has both shaded and sunny areas. \nRain cancels. Contact 860-740-4939 for more information.[/vc_column_text][/vc_column][/vc_row]
URL:https://rockfallfoundation.org/event/yoga-at-the-mansion-with-nicole/
LOCATION:Wadsworth Mansion Rose Garden\, 421 Wadsworth Street\, Middletown\, CT\, 06457
ATTACH;FMTTYPE=image/png:https://rockfallfoundation.org/wp-content/uploads/2021/04/invasive-plant-removal-in-the-rockfall-forest-5.png
END:VEVENT
END:VCALENDAR