BEGIN:VCALENDAR
VERSION:2.0
PRODID:-//The Rockfall Foundation - ECPv6.15.20//NONSGML v1.0//EN
CALSCALE:GREGORIAN
METHOD:PUBLISH
X-ORIGINAL-URL:https://rockfallfoundation.org
X-WR-CALDESC:Events for The Rockfall Foundation
REFRESH-INTERVAL;VALUE=DURATION:PT1H
X-Robots-Tag:noindex
X-PUBLISHED-TTL:PT1H
BEGIN:VTIMEZONE
TZID:America/New_York
BEGIN:DAYLIGHT
TZOFFSETFROM:-0500
TZOFFSETTO:-0400
TZNAME:EDT
DTSTART:20230312T070000
END:DAYLIGHT
BEGIN:STANDARD
TZOFFSETFROM:-0400
TZOFFSETTO:-0500
TZNAME:EST
DTSTART:20231105T060000
END:STANDARD
BEGIN:DAYLIGHT
TZOFFSETFROM:-0500
TZOFFSETTO:-0400
TZNAME:EDT
DTSTART:20240310T070000
END:DAYLIGHT
BEGIN:STANDARD
TZOFFSETFROM:-0400
TZOFFSETTO:-0500
TZNAME:EST
DTSTART:20241103T060000
END:STANDARD
BEGIN:DAYLIGHT
TZOFFSETFROM:-0500
TZOFFSETTO:-0400
TZNAME:EDT
DTSTART:20250309T070000
END:DAYLIGHT
BEGIN:STANDARD
TZOFFSETFROM:-0400
TZOFFSETTO:-0500
TZNAME:EST
DTSTART:20251102T060000
END:STANDARD
END:VTIMEZONE
BEGIN:VEVENT
DTSTART;TZID=America/New_York:20240321T173000
DTEND;TZID=America/New_York:20240321T193000
DTSTAMP:20260425T163040
CREATED:20240227T201554Z
LAST-MODIFIED:20240227T201704Z
UID:16524-1711042200-1711049400@rockfallfoundation.org
SUMMARY:Meet Your Greens: Amy Blaymore Paterson Reviews Connecticut Land Conservation Council's 2024 Legislative and Policy Agenda
DESCRIPTION:[vc_row][vc_column width=”1/2″][vc_column_text css=”.vc_custom_1709064944892{margin-bottom: 0px !important;}”]\n\nMeet Your Greens: Amy Blaymore Paterson Reviews Connecticut Land Conservation Council’s 2024 Legislative and Policy Agenda\nOur March Meet Your Greens will be on Thursday\, March 21\, at Tavern at the Armory – Inn at Middletown. \nGuest speaker Amy Blaymore Paterson is the Executive Director of the Connecticut Land Conservation Council (CLCC). CLCC is the only statewide service provider and voice for all Connecticut land trusts. CLCC is a leader in advocacy and policy\, education and training\, and technical and financial assistance to empower Connecticut’s 120+ land trusts and ensure the long-term viability of land conservation efforts in the state. Amy will give a brief overview of CLCC’s 2024 legislative and policy priorities and the status of these and other major issues and initiatives impacting land conservation and the environment in the current legislative session. \nJoin us on Thursday\, March 21\, at Tavern at the Armory – Inn at Middletown \nRegistration is not required but recommended. \n\n[/vc_column_text][/vc_column][vc_column width=”1/2″][vc_single_image image=”16561″ img_size=”full”][/vc_column][/vc_row][vc_row dimension=”flat” corner_style=”pointed” size=”large” letter_spacing=”0″ icon=”” icon_anim=”none” target=”_self” nofollow=”false” align=”center” button_custom_width=”0″ margin_top=”0″ margin_bottom=”15″ margin_right=”15″ outline_skin=”dark” outline_active_color=”” outline_active_text_color=”” outline_hover_bg_color=”” outline_hover_color=”” bg_color=”#01baef” btn_hover_bg=”#01baef” text_color=”light” btn_hover_txt_color=”#ffffff”][vc_column width=”1/2″][mk_button dimension=”flat” corner_style=”rounded” size=”large” url=”https://forms.gle/zGha8AtV1R94gHfx7″ target=”_blank” bg_color=”#01baef” btn_hover_bg=”#01baef” btn_hover_txt_color=”#ffffff”]REGISTER HERE[/mk_button][/vc_column][vc_column width=”1/2″][/vc_column][/vc_row][vc_row][vc_column][vc_column_text css=”.vc_custom_1703180544764{margin-bottom: 0px !important;}”]\nFor those of you not familiar with Meet Your Greens: Middletown Green Drinks\, this monthly event provides networking opportunities for anyone who is interested in making connections and exchanging news about emerging environmental issues to help keep Lower Connecticut River Valley communities green and growing. An official location of Green Drinks International\, this informal monthly gathering of people drawn from the community\, nonprofit groups and the business world offers time to brainstorm ideas and plant seeds for collaboration. All are welcome and there is no admission fee\, unless otherwise noted.\n[/vc_column_text][/vc_column][/vc_row]
URL:https://rockfallfoundation.org/event/meet-your-greens-amy-blaymore-paterson/
LOCATION:Tavern at the Armory – Inn at Middletown\, 70 Main Street\, Middletown\, CT\, 06457
END:VEVENT
END:VCALENDAR