BEGIN:VCALENDAR
VERSION:2.0
PRODID:-//The Rockfall Foundation - ECPv6.15.20//NONSGML v1.0//EN
CALSCALE:GREGORIAN
METHOD:PUBLISH
X-WR-CALNAME:The Rockfall Foundation
X-ORIGINAL-URL:https://rockfallfoundation.org
X-WR-CALDESC:Events for The Rockfall Foundation
REFRESH-INTERVAL;VALUE=DURATION:PT1H
X-Robots-Tag:noindex
X-PUBLISHED-TTL:PT1H
BEGIN:VTIMEZONE
TZID:America/New_York
BEGIN:DAYLIGHT
TZOFFSETFROM:-0500
TZOFFSETTO:-0400
TZNAME:EDT
DTSTART:20160313T070000
END:DAYLIGHT
BEGIN:STANDARD
TZOFFSETFROM:-0400
TZOFFSETTO:-0500
TZNAME:EST
DTSTART:20161106T060000
END:STANDARD
BEGIN:DAYLIGHT
TZOFFSETFROM:-0500
TZOFFSETTO:-0400
TZNAME:EDT
DTSTART:20170312T070000
END:DAYLIGHT
BEGIN:STANDARD
TZOFFSETFROM:-0400
TZOFFSETTO:-0500
TZNAME:EST
DTSTART:20171105T060000
END:STANDARD
BEGIN:DAYLIGHT
TZOFFSETFROM:-0500
TZOFFSETTO:-0400
TZNAME:EDT
DTSTART:20180311T070000
END:DAYLIGHT
BEGIN:STANDARD
TZOFFSETFROM:-0400
TZOFFSETTO:-0500
TZNAME:EST
DTSTART:20181104T060000
END:STANDARD
END:VTIMEZONE
BEGIN:VEVENT
DTSTART;TZID=America/New_York:20170817T180000
DTEND;TZID=America/New_York:20170817T210000
DTSTAMP:20260425T182332
CREATED:20170912T011352Z
LAST-MODIFIED:20170912T012329Z
UID:3160-1502992800-1503003600@rockfallfoundation.org
SUMMARY:Night at the Ivoryton Playhouse
DESCRIPTION:2nd Annual Night at the Ivoryton Playhouse to benefit our environmental grants and programs!\n\n \nThursday\, August 17\n6:00 pm – Reception | 7:30 pm – Performance \n\nPurchase tickets: $60 pp for the pre-show reception and performance; $20 pp for reception only (limited number available)\nSponsorship Opportunities that include marketing benefits are available \nThe 1970’s brought us the Clean Water Act and the Clean Air Act and it’s also the decade that brought us disco. It’s been 40 years since the release of the film that inspired this electrifying musical and we invite you to join us in celebrating this milestone while supporting essential environmental programs! \nEnjoy a pre-show reception with hearty hors d’oeuvres and a cash bar on the tent-covered patio at the Ivoryton Playhouse.  Then\, get ready for the nostalgic songs of the Bee Gees that defined the disco generation! Can’t stay for the show? Join us for networking at the reception – a limited number of tickets are available for the reception only. \nProceeds will support environmental education programs and grants – read more about some of the programs we’ve recently funded. Thanks to the generosity of those who attend our special events and contribute through Membership\, we are able to provide critical dollars to continue the valuable work of our grantee partners. We are grateful for your support! \n 
URL:https://rockfallfoundation.org/event/night-at-the-ivoryton-playhouse/
LOCATION:Ivoryton Playhouse\, 103 Main Street\, Ivoryton\, 06442\, United States
ATTACH;FMTTYPE=image/jpeg:https://rockfallfoundation.org/wp-content/uploads/2017/07/rsz_5_saturday_night_fever.jpg
END:VEVENT
BEGIN:VEVENT
DTSTART;TZID=America/New_York:20170720T180000
DTEND;TZID=America/New_York:20170720T180000
DTSTAMP:20260425T182332
CREATED:20170912T012923Z
LAST-MODIFIED:20170912T012923Z
UID:3189-1500573600-1500573600@rockfallfoundation.org
SUMMARY:Meet Your Greens with ARTFARM!
DESCRIPTION:Thursday\, July 20\, 2017 @ 6 pm\nThe Pavilion at Middlesex Community College \nJoin us at 6 pm for complimentary refreshments and networking\, plus an overview of the Grove\, an outdoor amphitheater and trail supported by the Rockfall Foundation during its development. At 6:30 pm\, Dic Wheeler will lead a discussion of Hamlet the Activist in 2017: Making Choices and Taking Action in a Quest for Public Justice\, drawing parallels to modern-day environmentalists. Dic is the Executive Director of ARTFARM and is directing Hamlet for the 12th season of Shakespeare in the Grove on the campus of Middlesex Community College. MYG attendees can take advantage of $10 off vouchers for the 8 pm Hamlet performance. For more info on the production\, visit the ARTFARM website. For information on Meet Your Greens\, please call the Rockfall Foundation at 860-347-0340. \nDirections to Middlesex Community College \n 
URL:https://rockfallfoundation.org/event/meet-your-greens-with-artfarm/
LOCATION:The Pavilion at Middlesex Community College\, Middlesex\, United States
ATTACH;FMTTYPE=image/jpeg:https://rockfallfoundation.org/wp-content/uploads/2017/06/Hamlet-poster-leinwand-scaled.jpg
END:VEVENT
BEGIN:VEVENT
DTSTART;TZID=America/New_York:20170615T173000
DTEND;TZID=America/New_York:20170615T173000
DTSTAMP:20260425T182332
CREATED:20170912T012712Z
LAST-MODIFIED:20170912T012712Z
UID:3186-1497547800-1497547800@rockfallfoundation.org
SUMMARY:Meet Your Greens on the CT River!
DESCRIPTION:THIS EVENT IS FULLY BOOKED; EMAIL US TO JOIN THE WAIT LIST: info@rockfallfoundation.org \nDon’t miss an early evening cruise on the beautiful lower Connecticut River aboard Adventure with light narration by Captain Mark and Mindy Yuknat of CT River Expeditions! \nThere is a suggested donation of $5 per person to help defray fuel costs. Attendees are encouraged to bring drinks and snacks\, and eco-friendly cups\, napkins\, and utensils will be provided. Please arrive by 5 pm as the cruise departs at 5:15 pm sharp from Eagle Landing State Park\, Haddam. \n 
URL:https://rockfallfoundation.org/event/meet-your-greens-on-the-ct-river/
LOCATION:CT
ATTACH;FMTTYPE=image/jpeg:https://rockfallfoundation.org/wp-content/uploads/2013/05/riverquest.jpg
END:VEVENT
END:VCALENDAR