BEGIN:VCALENDAR
VERSION:2.0
PRODID:-//The Rockfall Foundation - ECPv6.15.20//NONSGML v1.0//EN
CALSCALE:GREGORIAN
METHOD:PUBLISH
X-ORIGINAL-URL:https://rockfallfoundation.org
X-WR-CALDESC:Events for The Rockfall Foundation
REFRESH-INTERVAL;VALUE=DURATION:PT1H
X-Robots-Tag:noindex
X-PUBLISHED-TTL:PT1H
BEGIN:VTIMEZONE
TZID:America/New_York
BEGIN:DAYLIGHT
TZOFFSETFROM:-0500
TZOFFSETTO:-0400
TZNAME:EDT
DTSTART:20250309T070000
END:DAYLIGHT
BEGIN:STANDARD
TZOFFSETFROM:-0400
TZOFFSETTO:-0500
TZNAME:EST
DTSTART:20251102T060000
END:STANDARD
BEGIN:DAYLIGHT
TZOFFSETFROM:-0500
TZOFFSETTO:-0400
TZNAME:EDT
DTSTART:20260308T070000
END:DAYLIGHT
BEGIN:STANDARD
TZOFFSETFROM:-0400
TZOFFSETTO:-0500
TZNAME:EST
DTSTART:20261101T060000
END:STANDARD
BEGIN:DAYLIGHT
TZOFFSETFROM:-0500
TZOFFSETTO:-0400
TZNAME:EDT
DTSTART:20270314T070000
END:DAYLIGHT
BEGIN:STANDARD
TZOFFSETFROM:-0400
TZOFFSETTO:-0500
TZNAME:EST
DTSTART:20271107T060000
END:STANDARD
END:VTIMEZONE
BEGIN:VEVENT
DTSTART;TZID=America/New_York:20260523T080000
DTEND;TZID=America/New_York:20260523T120000
DTSTAMP:20260424T075953
CREATED:20260417T163849Z
LAST-MODIFIED:20260420T161045Z
UID:19176-1779523200-1779537600@rockfallfoundation.org
SUMMARY:Guided Spring Bird Walk at Haddam Meadows
DESCRIPTION:[vc_row][vc_column][vc_column_text margin_bottom=”0″ css=”.vc_custom_1776700593392{margin-bottom: 0px !important;}”]\n\nJoin Anthony Zemba\, Sr. Ecologist with LANDTECH\, and Rockfall Foundation Board member for a morning Bird Walk at Haddam Meadows on Saturday\, May 23rd. We will meet at the parking lot at the entrance of the park (the parking lot is on the left as soon as you enter the park and cross the railroad tracks) at 8:00 AM. \nFrom there\, we will walk south along the edge of the wooded wetland on the west side of the open meadow field. We will be looking for Spring migrants and breeding resident birds among the park’s varied habitats\, which include a forested swamp\, a scrub/shrub swamp\, a pond\, the CT River and its associated freshwater tidal emergent wetlands\, and open meadows. We will walk about a 2-mile loop on open\, flat terrain. But wear sturdy shoes that you don’t mind getting wet (but we will try to avoid walking in wet areas)\, and protect yourself from ticks. \nA steady rain will postpone the trip\, so monitor the weather and the Rockfall’s website for forecasts. \n📅 Date: Saturday\, May 23rd |  Rain Date: Sunday\, May 24th\n🕙 Time: 8:00 am – 12 pm (With the option to stay longer)\n📍 Location: Meet at the parking lot at the entrance\, Haddam Meadows State Park\n🔭 Limited to 25 participants \n  \n\n\nAdmission: This event is free for Rockfall Foundation members and a $5 donation fee for non-members.\n✅ Rockfall Foundation Members (Free Registration)\n💳 Non-Members ($5 Donation Fee\, paid in cash at the event) \n\n[/vc_column_text][/vc_column][/vc_row][vc_row][vc_column][mk_button dimension=”flat” corner_style=”rounded” size=”medium” url=”https://docs.google.com/forms/d/e/1FAIpQLScT4zdlGghJKLrqgv_wTCxVcYJjRuXTY9YeUCmhbYrGFjBKeg/viewform?usp=sharing&ouid=113508607613467264289″ target=”_blank”]Register Here[/mk_button][/vc_column][/vc_row]
URL:https://rockfallfoundation.org/event/guided-spring-bird-walk-at-haddam-meadows/
LOCATION:Haddam Meadows State Park\, Haddam\, CT\, 06438
ATTACH;FMTTYPE=image/png:https://rockfallfoundation.org/wp-content/uploads/2026/04/website.png
END:VEVENT
BEGIN:VEVENT
DTSTART;TZID=America/New_York:20260613T120000
DTEND;TZID=America/New_York:20260613T150000
DTSTAMP:20260424T075953
CREATED:20260325T162254Z
LAST-MODIFIED:20260326T200110Z
UID:19084-1781352000-1781362800@rockfallfoundation.org
SUMMARY:Repair Café at the deKoven House Community Center
DESCRIPTION:[vc_row][vc_column][vc_column_text margin_bottom=”0″ css=”.vc_custom_1774455735431{margin-bottom: 0px !important;}”]The Rockfall Foundation\, in cooperation with City of Middletown Recycling & Public Works\,  Reboot Eco\, and Mr. Fix This! will be hosting a Repair Café on Saturday\, June 13 from 12-3pm\, at the deKoven House Community Center in Middletown.  \nSkilled volunteers will help fix and teach you how to fix your things—saving you money and keeping items working and out of the garbage. Tool use and help are free. Participants are responsible for obtaining any necessary replacement parts. \nHave a skill to offer? To volunteer\, call 860-347-0340 or email jenna@rockfallfoundation.org[/vc_column_text][/vc_column][/vc_row]
URL:https://rockfallfoundation.org/event/repair-cafe-at-the-dekoven-house-community-center/
LOCATION:deKoven House\, 27 Washington Street\, Middletown\, CT\, 06457
ATTACH;FMTTYPE=image/png:https://rockfallfoundation.org/wp-content/uploads/2026/03/website-feature-image-2.png
END:VEVENT
END:VCALENDAR