BEGIN:VCALENDAR
VERSION:2.0
PRODID:-//The Rockfall Foundation - ECPv6.15.20//NONSGML v1.0//EN
CALSCALE:GREGORIAN
METHOD:PUBLISH
X-WR-CALNAME:The Rockfall Foundation
X-ORIGINAL-URL:https://rockfallfoundation.org
X-WR-CALDESC:Events for The Rockfall Foundation
REFRESH-INTERVAL;VALUE=DURATION:PT1H
X-Robots-Tag:noindex
X-PUBLISHED-TTL:PT1H
BEGIN:VTIMEZONE
TZID:America/New_York
BEGIN:DAYLIGHT
TZOFFSETFROM:-0500
TZOFFSETTO:-0400
TZNAME:EDT
DTSTART:20250309T070000
END:DAYLIGHT
BEGIN:STANDARD
TZOFFSETFROM:-0400
TZOFFSETTO:-0500
TZNAME:EST
DTSTART:20251102T060000
END:STANDARD
BEGIN:DAYLIGHT
TZOFFSETFROM:-0500
TZOFFSETTO:-0400
TZNAME:EDT
DTSTART:20260308T070000
END:DAYLIGHT
BEGIN:STANDARD
TZOFFSETFROM:-0400
TZOFFSETTO:-0500
TZNAME:EST
DTSTART:20261101T060000
END:STANDARD
BEGIN:DAYLIGHT
TZOFFSETFROM:-0500
TZOFFSETTO:-0400
TZNAME:EDT
DTSTART:20270314T070000
END:DAYLIGHT
BEGIN:STANDARD
TZOFFSETFROM:-0400
TZOFFSETTO:-0500
TZNAME:EST
DTSTART:20271107T060000
END:STANDARD
END:VTIMEZONE
BEGIN:VEVENT
DTSTART;VALUE=DATE:20260420
DTEND;VALUE=DATE:20260425
DTSTAMP:20260424T031651
CREATED:20260324T161117Z
LAST-MODIFIED:20260324T161117Z
UID:19045-1776643200-1777075199@rockfallfoundation.org
SUMMARY:Yoga for Earth Week at Starr Mill
DESCRIPTION:[vc_row][vc_column][vc_column_text margin_bottom=”0″ css=”.vc_custom_1774368397741{margin-bottom: 0px !important;}”]\nCelebrate Earth Week with movement\, mindfulness\, and purpose.\n\nJoin us for Yoga for Earth Week at Starr Mill from April 20–24. Stop in for a class anytime throughout the week\, whether you’re a seasoned yogi or just getting started\, all skill levels are welcome. With a variety of class styles offered\, there’s something for everyone.\n\nThis week is an opportunity to reset—physically and mentally—through movement\, mobility\, relaxation\, meditation\, and healing practices in a supportive space.\n\nA portion of proceeds from classes during the week will benefit the Rockfall Foundation\, helping to support local environmental conservation efforts. So while you’re taking care of yourself\, you’re also giving back to the planet and the Lower Connecticut River Valley.\n\nCome for the yoga and leave feeling grounded\, restored\, and connected to something bigger.\n\nVisit https://starrmillyoga.com/schedule/ for class schedule.\n[/vc_column_text][/vc_column][/vc_row]
URL:https://rockfallfoundation.org/event/yoga-for-earth-week-at-starr-mill/
LOCATION:Starr Mill Yoga\, 91 Beverly Heights\, Middletown\, CT\, 06457
ATTACH;FMTTYPE=image/png:https://rockfallfoundation.org/wp-content/uploads/2026/03/website-feature-image.png
END:VEVENT
END:VCALENDAR